BEGIN:VCALENDAR
VERSION:2.0
PRODID:-//McGilvra - Events - ECPv6.2.0.1//NONSGML v1.0//EN
CALSCALE:GREGORIAN
X-WR-CALNAME:McGilvra - Events
X-ORIGINAL-URL:https://mcgilvraes.seattleschools.org/events/mcgilvra-aucti
 on-imperia-lake-union/ics/
X-WR-CALDESC:McGilvra - Events
REFRESH-INTERVAL;VALUE=DURATION:PT1D
X-Robots-Tag:noindex
X-PUBLISHED-TTL:PT1D
BEGIN:VTIMEZONE
TZID:America/Vancouver
BEGIN:DAYLIGHT
TZOFFSETFROM:-0800
TZOFFSETTO:-0700
TZNAME:PDT
DTSTART:20260308T100000
END:DAYLIGHT
BEGIN:STANDARD
TZOFFSETFROM:-0700
TZOFFSETTO:-0800
TZNAME:PST
DTSTART:20261101T090000
END:STANDARD
END:VTIMEZONE
BEGIN:VEVENT
DTSTART;TZID=America/Vancouver:20260502T180000
DTEND;TZID=America/Vancouver:20260502T210000
DTSTAMP:20260417T045326Z
CREATED:20260203T161958Z
LAST-MODIFIED:20260203T162015Z
UID:https://mcgilvraes.seattleschools.org/events/mcgilvra-auction-imperia-
 lake-union/
SUMMARY:McGilvra Auction
DESCRIPTION:McGilvra Auction Imperia Lake Union
McGilvra Auction
URL:https://mcgilvraes.seattleschools.org/events/mcgilvra-auction-imperia-
 lake-union/
END:VEVENT
END:VCALENDAR